BEGIN:VCALENDAR
VERSION:2.0
PRODID:-//Amatérská scéna - ECPv6.15.20//NONSGML v1.0//EN
CALSCALE:GREGORIAN
METHOD:PUBLISH
X-WR-CALNAME:Amatérská scéna
X-ORIGINAL-URL:https://www.amaterskascena.cz
X-WR-CALDESC:Akce na Amatérská scéna
REFRESH-INTERVAL;VALUE=DURATION:PT1H
X-Robots-Tag:noindex
X-PUBLISHED-TTL:PT1H
BEGIN:VTIMEZONE
TZID:Europe/Prague
BEGIN:DAYLIGHT
TZOFFSETFROM:+0100
TZOFFSETTO:+0200
TZNAME:CEST
DTSTART:20250330T010000
END:DAYLIGHT
BEGIN:STANDARD
TZOFFSETFROM:+0200
TZOFFSETTO:+0100
TZNAME:CET
DTSTART:20251026T010000
END:STANDARD
BEGIN:DAYLIGHT
TZOFFSETFROM:+0100
TZOFFSETTO:+0200
TZNAME:CEST
DTSTART:20260329T010000
END:DAYLIGHT
BEGIN:STANDARD
TZOFFSETFROM:+0200
TZOFFSETTO:+0100
TZNAME:CET
DTSTART:20261025T010000
END:STANDARD
BEGIN:DAYLIGHT
TZOFFSETFROM:+0100
TZOFFSETTO:+0200
TZNAME:CEST
DTSTART:20270328T010000
END:DAYLIGHT
BEGIN:STANDARD
TZOFFSETFROM:+0200
TZOFFSETTO:+0100
TZNAME:CET
DTSTART:20271031T010000
END:STANDARD
END:VTIMEZONE
BEGIN:VEVENT
DTSTART;TZID=Europe/Prague:20260410T170000
DTEND;TZID=Europe/Prague:20260503T170000
DTSTAMP:20260420T105810
CREATED:20260411T092725Z
LAST-MODIFIED:20260411T092725Z
UID:18415-1775840400-1777827600@www.amaterskascena.cz
SUMMARY:Hana Voříšková – Obrazy a objekty
DESCRIPTION:10. dubna – 3. května / Pátek / Galerie KC Česká Třebová / Dobrovolné / 17:00 \nVernisáž 10.4. 2026 v 17.00 hodin. \nOtevřeno denně 9.00-12.00 a 14.00-17.00 hodin.
URL:https://www.amaterskascena.cz/event/hana-voriskova-obrazy-a-objekty/
LOCATION:Galerie Ceská Třebová\, Nádražní 397\, Česká Třebová\, Pardubický kraj\, 560 02
CATEGORIES:Výstava
ATTACH;FMTTYPE=image/jpeg:https://www.amaterskascena.cz/wp-content/uploads/2026/04/VYSTAVAvoriskova_JPG-scaled-1.jpg
ORGANIZER;CN="Kulturn%C3%AD d%C5%AFm Cesk%C3%A1 T%C5%99ebov%C3%A1":MAILTO:info@kcct.cz
END:VEVENT
BEGIN:VEVENT
DTSTART;TZID=Europe/Prague:20260412T193000
DTEND;TZID=Europe/Prague:20260512T203000
DTSTAMP:20260420T105810
CREATED:20260409T061919Z
LAST-MODIFIED:20260409T061919Z
UID:18400-1776022200-1778617800@www.amaterskascena.cz
SUMMARY:Petr Zelenka: DABING STREET
DESCRIPTION:Činoherní klub uvádí\nCeloroční přehlídka amatérských souborů\nPamátník ticha o.p.s. /\nve spolupráci s Činoherním klubem /\ns odbornou garancí Národní institut pro kulturu\, útvaru ARTAMA /\nza finanční podpory Ministerstva kultury České republiky. \nI. premiéra \nDivadelní Sekce Praha\nPetr Zelenka / DABING STREET\nScénický obraz lidského jednání v situacích\, kdy nejde zdaleka\, jak to tak bývá\, jen o dabování.\nRežie: Eliška Hofmanová\, Jan Kuna\, Radvan Pácl / Dramaturgie: Jan Kuna / Scéna a kostýmy: Divadelní Sekce Praha / Hudba a texty písní: G. F. George\, / Pohybová spolupráce: Ilona Kašpárková / Obrazová režie a střih filmového obrazu: Daniel Titl / Zvuk\, světlo\, video: Václav Spurný\, Zdeněk Třískala / Hrají: Klára Ludvíková\, Ilona Kašpárková\, Eliška Hofmanová\, Luděk Blaheta\, Jan Kuna\, Daniel Titl\, Rostislav Bílík\, Lucie Bláhová\, Petra Opplová / Ve filmu hrají: Filip Řezníček\, Zdeněk Třískala\, Jan Rezek / Kapela: G. F. George\, Ilona Kašpárková\, Jaroslav Prokeš \, Václav Spurný / Produkce: Petra Opplová\, Eliška Hofmanová. \nDivadelní Sekce Praha si už potřetí vybrala text současného českého dramatu. Společenskou úlohu své hravé a upřímné neprofesionální scénické aktivity Divadelní Sekce Praha chápe v tom nejširším slova smyslu. Dabing street je inscenace\, kde divák bude svědkem toho\, jak si soubor musí na jevišti se vším poradit sám. A dokonce i se vztahy mezi sebou. \nZdeněk Svěrák a Ladislav Smoljak / ZÁSKOK * Na motivy knihy Jiřího Brdečky / KOŇSKÁ OPERA aneb LIMONÁDOVÝ JOE * Billy Wilder s I. A. L. Diamondem / NĚKDO TO RÁD HORKÉ * Divadelní Sekce Praha / DLOUHÝ\, ŠIROKÝ a KRÁTKOZRAKÝ (napůl s vlastní férií\, co všechno dokážeme) * William Shakespeare / VESELÉ PANIČKY WINDSORSKÉ aneb Veřejná generálka * Georges Feydeau / BROUK V HLAVĚ * Vratislav Blažek / SVĚTÁCI * Petr Zelenka / PŘÍBĚHY OBYČEJNÉHO ŠÍLENSTVÍ * Jiří Havelka SPOLEČENSTVO VLASTNÍKŮ * Václav Havel / AUDIENCE * Eugeniusz Szybał / P.R.S.A * Petr Zelenka / DABING STREET …\nVstupné 200\,-Kč / 19.30
URL:https://www.amaterskascena.cz/event/petr-zelenka-dabing-street-2/
LOCATION:Činoherní klub Praha\, Ve Smečkách 26\, Praha 1\, Hlavní město Praha\, 110 00\, Česká republika
CATEGORIES:Divadelní představení
ATTACH;FMTTYPE=image/jpeg:https://www.amaterskascena.cz/wp-content/uploads/2026/04/dabing_street_cinoherni.jpg
ORGANIZER;CN="Pam%C3%A1tn%C3%ADk ticha%2C o.p.s.":MAILTO:radvan.pacl@gmail.com
END:VEVENT
BEGIN:VEVENT
DTSTART;VALUE=DATE:20260417
DTEND;VALUE=DATE:20260419
DTSTAMP:20260420T105810
CREATED:20260106T131456Z
LAST-MODIFIED:20260417T081846Z
UID:12736-1776384000-1776556799@www.amaterskascena.cz
SUMMARY:Fandův dýchánek 2026
DESCRIPTION:Krajské postupové přehlídky na Loutkářskou Chrudim 2026\nKrajská postupová přehlídka experimentujícího divadla 2026 \nSvitavy – Fandův dýchánek\n17.–18. dubna 2026 – Fabrika a Divadlo Trám\nKontakt: Michal Kadlec\, Středisko kulturních služeb – Fabrika\, Wolkerova alej 92/18\, 568 02 Svitavy\, tel.: 734 416 994\, e-mail: michal.kadlec@kultura-svitavy.cz\nhttps://kultura-svitavy.cz/kultura/fanduv-dychanek-2026/2184\nLektoři: Jiřina Lhotská\, Vít Malota\, Kamil Bělohlávek\, Vladimír Hulec \nProgram přehlídky: \nPÁTEK \n9:40 – 10:25   DS Městečko • Trnávka František a čerti • Fabrika \n10:40 – 11:05  Bitchcraft •  Ticho po pěšině • Trám \n13:00 – 13:40  Stádo hrochů • PROTO • Trám \n13:45 – 14:25  Mezium • Pomíjivost – relativní záležitost • Tyjátr \n14:40 – 15:10  Drama Lama • Příběhy z našeho / vnitřního města • Fabrika \n16:45 – 17:35  Dramacentrum Bezejména • Vyhnání Gerty Schnirch • Trám \n18:45 – 20:15  DS Svratouch • Tajemství amulet • Fabrika \n20:30 – 21:00 Céčko • Karel Čapek – Příběhy • Trám \n  \nSOBOTA \n8:00 – 9:00     Úplněnahé Divadlo • A to je všechno? • Trám \n9:15 – 9:40     Jášínci • Kdys byla slečna… • Fabrika \n9:55 -10:35    DŠ Tyl • Kdybych měl křídla • Tyjátr \n10:40 – 11:10  Frgál na nitkách • Okenice • Trám \n13:45 – 14:05  Čistírna • S Arnoštem ve vaně • Tyjátr \n14:10 – 15:25  Divadlo Máj Praha • Za gaučem • Trám \n15:40 – 16:20  Invisible Theatre Kalawatsch R.A.J. • Cesta k cíli • Fabrika \n16:35 – 17:25  Katéatr • Plastic people • Trám \nZměna programu vyhrazena!
URL:https://www.amaterskascena.cz/event/fanduv-dychanek/
LOCATION:Středisko kulturních služeb města Svitavy\, Wolkerova alej 92/18\, Svitavy\, Pardubický kraj\, 568 02\, Česká republika
CATEGORIES:Postupová přehlídka
ATTACH;FMTTYPE=image/webp:https://www.amaterskascena.cz/wp-content/uploads/2026/01/ej5695babf5d8fef418886207.webp
ORGANIZER;CN="St%C5%99edisko kulturn%C3%ADch slu%C5%BEeb m%C4%9Bsta Svitavy":MAILTO:michal.kadlec@kultura-svitavy.cz
END:VEVENT
BEGIN:VEVENT
DTSTART;VALUE=DATE:20260418
DTEND;VALUE=DATE:20260419
DTSTAMP:20260420T105810
CREATED:20260417T100004Z
LAST-MODIFIED:20260417T100004Z
UID:18453-1776470400-1776556799@www.amaterskascena.cz
SUMMARY:Národní přehlídka Kandrdásek - Neratovice
DESCRIPTION:Pozvání na národní kolo přehlídky monologů a dialogů dětí.  Přijďte je podpořit do Společenského domu v Neratovicích.
URL:https://www.amaterskascena.cz/event/narodni-prehlidka-kandrdasek-neratovice/
LOCATION:Společenský dům Neratovice\, nám. Republiky 1399\, Neratovice\, Středočeský kraj\, 277 11\, Česká republika
CATEGORIES:Národní přehlídka
ATTACH;FMTTYPE=image/png:https://www.amaterskascena.cz/wp-content/uploads/2026/04/Kandrdasek_plakat_png2026-scaled.png
END:VEVENT
BEGIN:VEVENT
DTSTART;VALUE=DATE:20260418
DTEND;VALUE=DATE:20260420
DTSTAMP:20260420T105810
CREATED:20260106T125852Z
LAST-MODIFIED:20260417T081450Z
UID:12727-1776470400-1776643199@www.amaterskascena.cz
SUMMARY:22. Pimprlení
DESCRIPTION:Krajské postupové přehlídky na Loutkářskou Chrudim 2026 \nPlzeň – 22. Pimprlení\n18.–19. dubna 2026 – Moving Station a Loutkové divadlo v Boudě\, Plzeň\nKontakt: Eva Gažáková\, Johan z. ú.\, Koperníkova 56\, 301 00 Plzeň\,\ntel.: 773 453 010\, e-mail: eva.gazakova@johancentrum.cz\, www.johancentrum.cz\nLektoři: Michal Drtina\, další budou upřesněni později
URL:https://www.amaterskascena.cz/event/12727/
LOCATION:Moving Station\, Plzen\, Koperníkova 56\, Plzeň 3-Jižní Předměstí\, Plzeňský kraj\, 301 00
CATEGORIES:Postupová přehlídka
ATTACH;FMTTYPE=image/jpeg:https://www.amaterskascena.cz/wp-content/uploads/2026/01/plakat-Pimprleni-program-A4-scaled.jpg
ORGANIZER;CN="Johan z. %C3%BA. - Jana Ga%C5%BE%C3%A1kov%C3%A1":MAILTO:eva.gazakova@johancentrum.cz
END:VEVENT
BEGIN:VEVENT
DTSTART;TZID=Europe/Prague:20260418T093000
DTEND;TZID=Europe/Prague:20260419T153000
DTSTAMP:20260420T105810
CREATED:20260417T083522Z
LAST-MODIFIED:20260417T083522Z
UID:18448-1776504600-1776612600@www.amaterskascena.cz
SUMMARY:DIV SE: Divadelní Setkání 2026
DESCRIPTION:Krajská postupová přehlídka na Loutkářskou Chrudim a Dětskou scénu. \n18.– 19. 4. 2026\n\n\n\nPostupové kolo celostátní přehlídky Loutkářská Chrudim a Dětská scéna Svitavy. \nDivadlo Jesličky Josefa Tejkla\, Hradec Králové
URL:https://www.amaterskascena.cz/event/div-se-divadelni-setkani-2026/
LOCATION:Divadlo Jesličky Josefa Tejkla\, Třebechovická 836\, Hradec Králové\, Královéhradecký kraj\, 500 03\, Česká republika
CATEGORIES:Festival
ATTACH;FMTTYPE=image/jpeg:https://www.amaterskascena.cz/wp-content/uploads/2026/04/div-se-plakat-a3-nahled.jpg
ORGANIZER;CN="Centrum um%C4%9Bleck%C3%BDch aktivit":MAILTO:divadlo@cuahk.cz
END:VEVENT
BEGIN:VEVENT
DTSTART;TZID=Europe/Prague:20260418T200000
DTEND;TZID=Europe/Prague:20260418T213000
DTSTAMP:20260420T105810
CREATED:20260401T112923Z
LAST-MODIFIED:20260401T112923Z
UID:18330-1776542400-1776547800@www.amaterskascena.cz
SUMMARY:Scéna Kralupy: Rebekka Kricheldorf - Vila Dolorosa
DESCRIPTION:Tři sestry\, jeden bratr a jedna stará rozpadající se vila po rodičích. Troje ne úplně povedené narozeniny\, čtyři ne úplně povedené životy. Andrej\, Olga\, Máša a Irina se potácejí odnikud nikam a život jim zatím protéká mezi prsty. A co na to Andrejova nová žena Janine?\nZahořklá komedie inspirovaná Třemi sestrami A.P. Čechova.\nTísnivý pocit marnosti vlastní existence zaručen! \nPřeklad: Magdalena Štulcová\nRežie\, úprava – Jiřina Lhotská\nScénografie\, kostýmy – Gabriela Pojerová\nLightdesign – Judita Mejstříková\nVýběr hudby – Pavel Kuptík \nObsazení:\nOlga – Tereza Libichová/Petra Slížková\nMáša – Barbora Gréeová\nIrina – Helena Plicková\nAndrej – David Slížek\nGeorg – Martin Kuncl\nJanine – Barbora Gottliebová \nAutorská práva k dramatickému textu a překladu v České republice zastupuje Aura – Pont s.r.o.\, Veslařský ostrov 62\, 147 00 Praha 4.
URL:https://www.amaterskascena.cz/event/scena-kralupy-rebekka-kricheldorf-vila-dolorosa/
LOCATION:Klubovna Scéna Kralupy\, Náměstí Jaroslava Seiferta 706\, Kralupy nad Vltavou 1-Lobeček\, Středočeský kraj\, 278 01\, Czech Republic
CATEGORIES:Divadelní představení
ATTACH;FMTTYPE=image/jpeg:https://www.amaterskascena.cz/wp-content/uploads/2026/04/dolorosa_kralupy.jpg
ORGANIZER;CN="Sc%C3%A9na Kralupy":MAILTO:helplickova@gmail.com
END:VEVENT
END:VCALENDAR