BEGIN:VCALENDAR
VERSION:2.0
PRODID:-//Amatérská scéna - ECPv6.15.20//NONSGML v1.0//EN
CALSCALE:GREGORIAN
METHOD:PUBLISH
X-ORIGINAL-URL:https://www.amaterskascena.cz
X-WR-CALDESC:Akce na Amatérská scéna
REFRESH-INTERVAL;VALUE=DURATION:PT1H
X-Robots-Tag:noindex
X-PUBLISHED-TTL:PT1H
BEGIN:VTIMEZONE
TZID:Europe/Prague
BEGIN:DAYLIGHT
TZOFFSETFROM:+0100
TZOFFSETTO:+0200
TZNAME:CEST
DTSTART:20230326T010000
END:DAYLIGHT
BEGIN:STANDARD
TZOFFSETFROM:+0200
TZOFFSETTO:+0100
TZNAME:CET
DTSTART:20231029T010000
END:STANDARD
BEGIN:DAYLIGHT
TZOFFSETFROM:+0100
TZOFFSETTO:+0200
TZNAME:CEST
DTSTART:20240331T010000
END:DAYLIGHT
BEGIN:STANDARD
TZOFFSETFROM:+0200
TZOFFSETTO:+0100
TZNAME:CET
DTSTART:20241027T010000
END:STANDARD
BEGIN:DAYLIGHT
TZOFFSETFROM:+0100
TZOFFSETTO:+0200
TZNAME:CEST
DTSTART:20250330T010000
END:DAYLIGHT
BEGIN:STANDARD
TZOFFSETFROM:+0200
TZOFFSETTO:+0100
TZNAME:CET
DTSTART:20251026T010000
END:STANDARD
END:VTIMEZONE
BEGIN:VEVENT
DTSTART;TZID=Europe/Prague:20240126T200000
DTEND;TZID=Europe/Prague:20240126T212000
DTSTAMP:20260423T134142
CREATED:20240108T204852Z
LAST-MODIFIED:20240111T183248Z
UID:907-1706299200-1706304000@www.amaterskascena.cz
SUMMARY:Belgická rybka
DESCRIPTION:“Dětský přísahy nic neznamenaj.“ \nNádech. Potemnělá jezírka v bruselské čtvrti Ixelles. Velká pán a Malej holka. Čekají. Jeden druhého si nevšímají. Nádech. Když se jedno dítě pozve k jednomu pánovi domů a převrátí mu život naruby. Nádech. Křehký příběh\, který zpochybňuje identitu\, v hlubinách duše oslavuje jinakost a před obtížností existence schovává hlavu pod vodu. Nádech. Poetická cesta k dětství\, na které jsme možná už dávno zapomněli. Nádech…
URL:https://www.amaterskascena.cz/event/belgicka-rybka/
LOCATION:Divadlo RADAR\, Pplk. Sochora 9\, Praha 7\, Hlavní město Praha\, 170 00\, Česká republika
CATEGORIES:Divadelní představení
ATTACH;FMTTYPE=image/jpeg:https://www.amaterskascena.cz/wp-content/uploads/2024/01/belgicka_rybka.jpg
ORGANIZER;CN="Divadlo RADAR":MAILTO:j.kottasova@ddmpraha7.cz
END:VEVENT
END:VCALENDAR