BEGIN:VCALENDAR
VERSION:2.0
PRODID:-//Amatérská scéna - ECPv6.15.20//NONSGML v1.0//EN
CALSCALE:GREGORIAN
METHOD:PUBLISH
X-WR-CALNAME:Amatérská scéna
X-ORIGINAL-URL:https://www.amaterskascena.cz
X-WR-CALDESC:Akce na Amatérská scéna
REFRESH-INTERVAL;VALUE=DURATION:PT1H
X-Robots-Tag:noindex
X-PUBLISHED-TTL:PT1H
BEGIN:VTIMEZONE
TZID:Europe/Prague
BEGIN:DAYLIGHT
TZOFFSETFROM:+0100
TZOFFSETTO:+0200
TZNAME:CEST
DTSTART:20230326T010000
END:DAYLIGHT
BEGIN:STANDARD
TZOFFSETFROM:+0200
TZOFFSETTO:+0100
TZNAME:CET
DTSTART:20231029T010000
END:STANDARD
BEGIN:DAYLIGHT
TZOFFSETFROM:+0100
TZOFFSETTO:+0200
TZNAME:CEST
DTSTART:20240331T010000
END:DAYLIGHT
BEGIN:STANDARD
TZOFFSETFROM:+0200
TZOFFSETTO:+0100
TZNAME:CET
DTSTART:20241027T010000
END:STANDARD
BEGIN:DAYLIGHT
TZOFFSETFROM:+0100
TZOFFSETTO:+0200
TZNAME:CEST
DTSTART:20250330T010000
END:DAYLIGHT
BEGIN:STANDARD
TZOFFSETFROM:+0200
TZOFFSETTO:+0100
TZNAME:CET
DTSTART:20251026T010000
END:STANDARD
END:VTIMEZONE
BEGIN:VEVENT
DTSTART;TZID=Europe/Prague:20240203T190000
DTEND;TZID=Europe/Prague:20240203T203000
DTSTAMP:20260423T115239
CREATED:20240123T102808Z
LAST-MODIFIED:20240123T102808Z
UID:995-1706986800-1706992200@www.amaterskascena.cz
SUMMARY:Teritoriální tyjátr - Jiří Volák: Družstvo Ďáblice
DESCRIPTION:Na ďáblickém hřbitově se sejdou Božena Němcová\, František Palacký\, Jan Kubiš a K.H.Frank. To není začátek vtipu\, ale dramatická situace absurdní autorské komedie Družstvo Ďáblice divadelního spolku Teritoriální tyjátr Praha. Schůzi\, která na Ďáblickém hřbitově probíhá naruší jen příchod jakéhosi nového\, neohlášeného souseda: studenta Matfyzu jménem Martin Šmíd. Je 17. listopadu 1989 a on tvrdí\, že tady v Ďáblicích nemá co dělat…
URL:https://www.amaterskascena.cz/event/teritorialni-tyjatr-jiri-volak-druzstvo-dablice/
LOCATION:Divadelní sál Mlčechvosty\, Mlčechvosty č. 50\, Vraňany\, Středočeský kraj\, 277 07\, Česká republika
CATEGORIES:Divadelní představení
ATTACH;FMTTYPE=image/jpeg:https://www.amaterskascena.cz/wp-content/uploads/2024/01/Druzstvo-Dablice-mosna_vranany.jpg
ORGANIZER;CN="Spolek Mo%C5%A1na Vra%C5%88any":MAILTO:spolek.mosna@seznam.cz
END:VEVENT
BEGIN:VEVENT
DTSTART;TZID=Europe/Prague:20240203T200000
DTEND;TZID=Europe/Prague:20240203T221500
DTSTAMP:20260423T115239
CREATED:20240108T204209Z
LAST-MODIFIED:20240111T183349Z
UID:902-1706990400-1706998500@www.amaterskascena.cz
SUMMARY:Probuzení jara (derniéra)
DESCRIPTION:„Když se lidi líbají — milují se…“ \nProbuzení\, při němž zůstáváš sám. Tragická vyprávěnka ze světa mladých dospělých. Opovážlivá cesta tím zatraceným dospíváním. Na jedný straně rodiče\, škola a známky. Na straně druhý nezkrotný touhy a chtíče\, erotický sympatie. Vyburcovanou odvahu střídá skličující marnost\, netečnost a lhostejnost volají po rebélii. Sebepoznávání\, kterýmu vždy tak trochu něco schází. A taky ta pohádka o bezhlavý královně. Zůstane-li na světě nějaká jistota\, bude to neporozumění. A listy si cosi horlivě šeptají…
URL:https://www.amaterskascena.cz/event/probuzeni-jara-derniera/
LOCATION:Divadlo RADAR\, Pplk. Sochora 9\, Praha 7\, Hlavní město Praha\, 170 00\, Česká republika
CATEGORIES:Divadelní představení
ATTACH;FMTTYPE=image/jpeg:https://www.amaterskascena.cz/wp-content/uploads/2024/01/probuzeni_jara.jpg
ORGANIZER;CN="Divadlo RADAR":MAILTO:j.kottasova@ddmpraha7.cz
END:VEVENT
END:VCALENDAR