BEGIN:VCALENDAR
VERSION:2.0
PRODID:-//Amatérská scéna - ECPv6.15.20//NONSGML v1.0//EN
CALSCALE:GREGORIAN
METHOD:PUBLISH
X-WR-CALNAME:Amatérská scéna
X-ORIGINAL-URL:https://www.amaterskascena.cz
X-WR-CALDESC:Akce na Amatérská scéna
REFRESH-INTERVAL;VALUE=DURATION:PT1H
X-Robots-Tag:noindex
X-PUBLISHED-TTL:PT1H
BEGIN:VTIMEZONE
TZID:Europe/Prague
BEGIN:DAYLIGHT
TZOFFSETFROM:+0100
TZOFFSETTO:+0200
TZNAME:CEST
DTSTART:20230326T010000
END:DAYLIGHT
BEGIN:STANDARD
TZOFFSETFROM:+0200
TZOFFSETTO:+0100
TZNAME:CET
DTSTART:20231029T010000
END:STANDARD
BEGIN:DAYLIGHT
TZOFFSETFROM:+0100
TZOFFSETTO:+0200
TZNAME:CEST
DTSTART:20240331T010000
END:DAYLIGHT
BEGIN:STANDARD
TZOFFSETFROM:+0200
TZOFFSETTO:+0100
TZNAME:CET
DTSTART:20241027T010000
END:STANDARD
BEGIN:DAYLIGHT
TZOFFSETFROM:+0100
TZOFFSETTO:+0200
TZNAME:CEST
DTSTART:20250330T010000
END:DAYLIGHT
BEGIN:STANDARD
TZOFFSETFROM:+0200
TZOFFSETTO:+0100
TZNAME:CET
DTSTART:20251026T010000
END:STANDARD
END:VTIMEZONE
BEGIN:VEVENT
DTSTART;TZID=Europe/Prague:20240210T180000
DTEND;TZID=Europe/Prague:20240210T200000
DTSTAMP:20260423T114628
CREATED:20240206T143655Z
LAST-MODIFIED:20240209T124154Z
UID:1051-1707588000-1707595200@www.amaterskascena.cz
SUMMARY:Hronovská Lucerna v Libici - ZRUŠENO
DESCRIPTION:Aktuálně: Představení je bohužel pro nemoc zrušeno. Děkujeme za pochopení! \nOchotníci zvou na klasickou hru Aloise Jiráska Lucerna. Diváci v Libici nad Cidlinou se mohou těšit na pohádkově laděnou inscenaci v níž také vystupují vodníci\, lesní víly a další bytosti. \n  \nLucernu od Aloise Jiráska uvede v libickém kulturním domě DS Hronov v sobotu 10. února od 18 hodin.\n\nDěj se soustřeďuje kolem dvou klíčových\, ale v podstatě také protikladných motivů\, tedy lucerny a lípy. Lucerna symbolizuje poddanství a omezení svobody. Lípa zase historické tradice\, právo a volnost. Lucerna vydává své světlo už od roku 1905 a pořád dokáže oslovovat nové divácké generace. \nV libickém kulturním domě ji uvede v sobotu 10. února od 18 hodin DS Hronov. \nInformahttps://vojanlibice.cz/ce o vstupenkách jsou na webových stránkách spolku Vojan.
URL:https://www.amaterskascena.cz/event/hronovska-lucerna-v-libici-nad-cidlinou/
LOCATION:Kulturní dům Libice nad Cidlinou\, Husova 35\, Libice nad Cidlinou\, Středočeský kraj\, 289 07\, Česká republika
CATEGORIES:Divadelní představení
ATTACH;FMTTYPE=image/jpeg:https://www.amaterskascena.cz/wp-content/uploads/2024/02/ds_hronov_lucerna.jpg
ORGANIZER;CN="DS Vojan Libice nad Cidlinou":MAILTO:dsvojan@gmail.com
END:VEVENT
END:VCALENDAR