BEGIN:VCALENDAR
VERSION:2.0
PRODID:-//Amatérská scéna - ECPv6.15.20//NONSGML v1.0//EN
CALSCALE:GREGORIAN
METHOD:PUBLISH
X-WR-CALNAME:Amatérská scéna
X-ORIGINAL-URL:https://www.amaterskascena.cz
X-WR-CALDESC:Akce na Amatérská scéna
REFRESH-INTERVAL;VALUE=DURATION:PT1H
X-Robots-Tag:noindex
X-PUBLISHED-TTL:PT1H
BEGIN:VTIMEZONE
TZID:Europe/Prague
BEGIN:DAYLIGHT
TZOFFSETFROM:+0100
TZOFFSETTO:+0200
TZNAME:CEST
DTSTART:20230326T010000
END:DAYLIGHT
BEGIN:STANDARD
TZOFFSETFROM:+0200
TZOFFSETTO:+0100
TZNAME:CET
DTSTART:20231029T010000
END:STANDARD
BEGIN:DAYLIGHT
TZOFFSETFROM:+0100
TZOFFSETTO:+0200
TZNAME:CEST
DTSTART:20240331T010000
END:DAYLIGHT
BEGIN:STANDARD
TZOFFSETFROM:+0200
TZOFFSETTO:+0100
TZNAME:CET
DTSTART:20241027T010000
END:STANDARD
BEGIN:DAYLIGHT
TZOFFSETFROM:+0100
TZOFFSETTO:+0200
TZNAME:CEST
DTSTART:20250330T010000
END:DAYLIGHT
BEGIN:STANDARD
TZOFFSETFROM:+0200
TZOFFSETTO:+0100
TZNAME:CET
DTSTART:20251026T010000
END:STANDARD
END:VTIMEZONE
BEGIN:VEVENT
DTSTART;TZID=Europe/Prague:20240304T190000
DTEND;TZID=Europe/Prague:20240304T213000
DTSTAMP:20260423T102430
CREATED:20240301T181756Z
LAST-MODIFIED:20240301T181756Z
UID:1185-1709578800-1709587800@www.amaterskascena.cz
SUMMARY:MANŽELSTVÍM K LÁSCE - divadelní komedie
DESCRIPTION:Divadelní komedie o tom\, že děti občas dokážou rodiče pořádně překvapit. O zábavné momenty tedy není nouze. Komedie je postavena zejména na vtipných dialozích mezi jednotlivými postavami a diváci se rozhodně nebudou nudit. Autor Jan Váchal se profesně věnuje ekonomii. Psaní divadelních her a knih je tak pro něj vlastně protipól jeho profese. Dalo by se říct takový relax. Ekonomie je ve své podstatě strohá řeč čísel\, a proto se ve své tvorbě autor věnuje především humoru\, kterého nikdy není dost. Je držitelem Čestného uznání ceny Miloslava Švandrlíka.
URL:https://www.amaterskascena.cz/event/manzelstvim-k-lasce-divadelni-komedie/
LOCATION:Divadlo Karla Hackera\, Klapkova 26/3\, Praha 8\, Hlavní město Praha\, 182 00\, Česká republika
CATEGORIES:Divadelní představení
ATTACH;FMTTYPE=image/jpeg:https://www.amaterskascena.cz/wp-content/uploads/2024/03/MKL24-KOBYLISY-c3ea26281eda13b9c0e18a9adfcb806d.jpg
ORGANIZER;CN="Lib%C4%8Dick%C3%A9 ochotnick%C3%A9 divadlo LO%C4%8E":MAILTO:kaca@kapik.net
END:VEVENT
END:VCALENDAR