BEGIN:VCALENDAR
VERSION:2.0
PRODID:-//Amatérská scéna - ECPv6.15.20//NONSGML v1.0//EN
CALSCALE:GREGORIAN
METHOD:PUBLISH
X-WR-CALNAME:Amatérská scéna
X-ORIGINAL-URL:https://www.amaterskascena.cz
X-WR-CALDESC:Akce na Amatérská scéna
REFRESH-INTERVAL;VALUE=DURATION:PT1H
X-Robots-Tag:noindex
X-PUBLISHED-TTL:PT1H
BEGIN:VTIMEZONE
TZID:Europe/Prague
BEGIN:DAYLIGHT
TZOFFSETFROM:+0100
TZOFFSETTO:+0200
TZNAME:CEST
DTSTART:20230326T010000
END:DAYLIGHT
BEGIN:STANDARD
TZOFFSETFROM:+0200
TZOFFSETTO:+0100
TZNAME:CET
DTSTART:20231029T010000
END:STANDARD
BEGIN:DAYLIGHT
TZOFFSETFROM:+0100
TZOFFSETTO:+0200
TZNAME:CEST
DTSTART:20240331T010000
END:DAYLIGHT
BEGIN:STANDARD
TZOFFSETFROM:+0200
TZOFFSETTO:+0100
TZNAME:CET
DTSTART:20241027T010000
END:STANDARD
BEGIN:DAYLIGHT
TZOFFSETFROM:+0100
TZOFFSETTO:+0200
TZNAME:CEST
DTSTART:20250330T010000
END:DAYLIGHT
BEGIN:STANDARD
TZOFFSETFROM:+0200
TZOFFSETTO:+0100
TZNAME:CET
DTSTART:20251026T010000
END:STANDARD
END:VTIMEZONE
BEGIN:VEVENT
DTSTART;TZID=Europe/Prague:20240321T193000
DTEND;TZID=Europe/Prague:20240321T210000
DTSTAMP:20260423T102430
CREATED:20240305T081440Z
LAST-MODIFIED:20240305T081440Z
UID:1217-1711049400-1711054800@www.amaterskascena.cz
SUMMARY:Vávra aneb...
DESCRIPTION:Celý název inscenace: Vávra aneb Všechno co jste chtěli vědět o Maryše a báli jste se Mrštíků zeptat \nJedno z nejznámějších dramat českého divadla po našem. Byl Vávra opravdu takový “lunt”\, že musel být otráven? Co vedlo bratry Mrštíky k tomu napsat právě Maryšu.\nHrají: T. Juhaňáková\, P. Havlík\, S. Matoušková\, L. Mikulecká\, V. Hájek\, B. Kučerová\, J. Jíše\, P. Matoušek\, M. Weiss\, R. Kotlaba a L. Niklíček
URL:https://www.amaterskascena.cz/event/vavra-aneb/
LOCATION:Dům kultury Mladá Boleslav\, Dukelská 1093\, Mladá Boleslav\, Středočeský kraj\, 293 01\, Česká republika
CATEGORIES:Divadelní představení
ATTACH;FMTTYPE=image/jpeg:https://www.amaterskascena.cz/wp-content/uploads/2024/03/divadylko_na_dlani_vavra.jpg
ORGANIZER;CN="Divad%C3%BDlko na dlani":MAILTO:info@divadylko-nadlani.cz
END:VEVENT
END:VCALENDAR