BEGIN:VCALENDAR
VERSION:2.0
PRODID:-//Amatérská scéna - ECPv6.15.20//NONSGML v1.0//EN
CALSCALE:GREGORIAN
METHOD:PUBLISH
X-ORIGINAL-URL:https://www.amaterskascena.cz
X-WR-CALDESC:Akce na Amatérská scéna
REFRESH-INTERVAL;VALUE=DURATION:PT1H
X-Robots-Tag:noindex
X-PUBLISHED-TTL:PT1H
BEGIN:VTIMEZONE
TZID:Europe/Prague
BEGIN:DAYLIGHT
TZOFFSETFROM:+0100
TZOFFSETTO:+0200
TZNAME:CEST
DTSTART:20230326T010000
END:DAYLIGHT
BEGIN:STANDARD
TZOFFSETFROM:+0200
TZOFFSETTO:+0100
TZNAME:CET
DTSTART:20231029T010000
END:STANDARD
BEGIN:DAYLIGHT
TZOFFSETFROM:+0100
TZOFFSETTO:+0200
TZNAME:CEST
DTSTART:20240331T010000
END:DAYLIGHT
BEGIN:STANDARD
TZOFFSETFROM:+0200
TZOFFSETTO:+0100
TZNAME:CET
DTSTART:20241027T010000
END:STANDARD
BEGIN:DAYLIGHT
TZOFFSETFROM:+0100
TZOFFSETTO:+0200
TZNAME:CEST
DTSTART:20250330T010000
END:DAYLIGHT
BEGIN:STANDARD
TZOFFSETFROM:+0200
TZOFFSETTO:+0100
TZNAME:CET
DTSTART:20251026T010000
END:STANDARD
END:VTIMEZONE
BEGIN:VEVENT
DTSTART;TZID=Europe/Prague:20240323T150000
DTEND;TZID=Europe/Prague:20240323T230000
DTSTAMP:20260423T115313
CREATED:20240305T082056Z
LAST-MODIFIED:20240305T082312Z
UID:1221-1711206000-1711234800@www.amaterskascena.cz
SUMMARY:Noc divadel 2024 / Divadýlko na dlani
DESCRIPTION:I Divadýlko na dlani se po určité časové prodlevě zapojí do této celorepublikové akce. Na co se můžete těšit?\nKaždá z částí programu má své vlastní časové okénko\, kde se budete moci zarezervovat místa. Vstupné je stanovené jako dobrovolné.\nTak vybírejte\, rezervujte a hlavně přijďte. Těšíme se na vás.\nVaše Divadýlko\nPROGRAM\n15:00 – MRZÁK INISHMAANSKÝ aneb Hosté (Divadelní spolek Náplavka)\n18:00 – PISTOLE aneb Když se kniha mění na film (Premiera filmu Divadýlka na dlani)\n19:30 – PANKYHO ÚLET aneb Když se herci mění v muzikanty\n20:30 – TĚŽKÁ BARBORA aneb Divadýlko na závěr
URL:https://www.amaterskascena.cz/event/noc-divadel-2024-divadylko-na-dlani/
LOCATION:Dům kultury Mladá Boleslav\, Dukelská 1093\, Mladá Boleslav\, Středočeský kraj\, 293 01\, Česká republika
CATEGORIES:Divadelní představení
ATTACH;FMTTYPE=image/jpeg:https://www.amaterskascena.cz/wp-content/uploads/2024/03/divadylko_noc_divadel_24.jpg
ORGANIZER;CN="Divad%C3%BDlko na dlani":MAILTO:info@divadylko-nadlani.cz
END:VEVENT
END:VCALENDAR