BEGIN:VCALENDAR
VERSION:2.0
PRODID:-//Amatérská scéna - ECPv6.15.20//NONSGML v1.0//EN
CALSCALE:GREGORIAN
METHOD:PUBLISH
X-ORIGINAL-URL:https://www.amaterskascena.cz
X-WR-CALDESC:Akce na Amatérská scéna
REFRESH-INTERVAL;VALUE=DURATION:PT1H
X-Robots-Tag:noindex
X-PUBLISHED-TTL:PT1H
BEGIN:VTIMEZONE
TZID:Europe/Prague
BEGIN:DAYLIGHT
TZOFFSETFROM:+0100
TZOFFSETTO:+0200
TZNAME:CEST
DTSTART:20240331T010000
END:DAYLIGHT
BEGIN:STANDARD
TZOFFSETFROM:+0200
TZOFFSETTO:+0100
TZNAME:CET
DTSTART:20241027T010000
END:STANDARD
BEGIN:DAYLIGHT
TZOFFSETFROM:+0100
TZOFFSETTO:+0200
TZNAME:CEST
DTSTART:20250330T010000
END:DAYLIGHT
BEGIN:STANDARD
TZOFFSETFROM:+0200
TZOFFSETTO:+0100
TZNAME:CET
DTSTART:20251026T010000
END:STANDARD
BEGIN:DAYLIGHT
TZOFFSETFROM:+0100
TZOFFSETTO:+0200
TZNAME:CEST
DTSTART:20260329T010000
END:DAYLIGHT
BEGIN:STANDARD
TZOFFSETFROM:+0200
TZOFFSETTO:+0100
TZNAME:CET
DTSTART:20261025T010000
END:STANDARD
END:VTIMEZONE
BEGIN:VEVENT
DTSTART;TZID=Europe/Prague:20250322T193000
DTEND;TZID=Europe/Prague:20250322T213000
DTSTAMP:20260423T115339
CREATED:20250121T162705Z
LAST-MODIFIED:20250121T162705Z
UID:2716-1742671800-1742679000@www.amaterskascena.cz
SUMMARY:Gérald Sibleyras: VÍTR VE VĚTVÍCH TOPOLŮ
DESCRIPTION:Činoherní klub uvádí:\nPřehlídku amatérských divadelních souborů\npořádá: Památník Šoa Praha / ve spolupráci s Činoherním klubem /\ns odbornou garancí NIPOS-ARTAMA / za finanční podpory Ministerstva kultury České republiky.\nDS NA TAHU / Červený Kostelec\nGérald Sibleyras: VÍTR VE VĚTVÍCH TOPOLŮ\nCestu na kopec\, na jehož vrcholu se vítr prohání ve větvích topolů. Konverzační komedii s tragikomickou rovinou.\nRežie: Rostislav Hejcman / Kostýmy: Eva Bergmannová / Scénografie\, scéna: Ladislav Jančík / Světla a zvuk: Technika Divadla J. K. Tyla / Hrají: Pavel Zuzek\, Jan Brož\, Pavel Labík.\nDivadelní hru Vítr ve větvích topolů lze po právu označit za konverzační komedii s tragikomickou rovinou. Protagonisty příběhu jsou Gustav\, Fernand a René\, tři veteráni z první světové války\, kteří žijí na počátku šedesátých let minulého století v domově pro vysloužilé vojáky. Z jejich každodenního setkávání na místní terase vzejde plán\, jak se vzepřít osudu\, kde jedinou perspektivu představuje smrt a zažít dobrodružnou cestu na kopec\, na jehož vrcholu se vítr prohání ve větvích topolů.\n&\nAčkoli protagonisty jsou tři pánové ve věku nazývaném ohleduplně seniorský\, převážně mladé publikum pátečního představení se výborně bavilo a trochu i dojímalo. Možná proto\, že Sibleyrasova hra není o stáří\, ale o tom\, že život je třeba naplno žít\, ať je nám dvacet\, nebo devadesát. A ti pánové na jevišti (a režisér za ním) to vědí.\nRadmila Hrdinová: Zpravodaj JH 2024\nWEBOVÉ STRÁNKY: http://www.dsnatahu.cz\nVstupné 200\,-Kč
URL:https://www.amaterskascena.cz/event/gerald-sibleyras-vitr-ve-vetvich-topolu/
LOCATION:Činoherní klub Praha\, Ve Smečkách 26\, Praha 1\, Hlavní město Praha\, 110 00\, Česká republika
CATEGORIES:Divadelní představení
ATTACH;FMTTYPE=image/jpeg:https://www.amaterskascena.cz/wp-content/uploads/2025/01/vitr_ve_vetvich_topolu.jpg
ORGANIZER;CN="Pam%C3%A1tn%C3%ADk %C5%A1oa Praha o. p. s.":MAILTO:radvan.pacl@gmail.com
END:VEVENT
END:VCALENDAR