BEGIN:VCALENDAR
VERSION:2.0
PRODID:-//Amatérská scéna - ECPv6.15.20//NONSGML v1.0//EN
CALSCALE:GREGORIAN
METHOD:PUBLISH
X-WR-CALNAME:Amatérská scéna
X-ORIGINAL-URL:https://www.amaterskascena.cz
X-WR-CALDESC:Akce na Amatérská scéna
REFRESH-INTERVAL;VALUE=DURATION:PT1H
X-Robots-Tag:noindex
X-PUBLISHED-TTL:PT1H
BEGIN:VTIMEZONE
TZID:Europe/Prague
BEGIN:DAYLIGHT
TZOFFSETFROM:+0100
TZOFFSETTO:+0200
TZNAME:CEST
DTSTART:20220327T010000
END:DAYLIGHT
BEGIN:STANDARD
TZOFFSETFROM:+0200
TZOFFSETTO:+0100
TZNAME:CET
DTSTART:20221030T010000
END:STANDARD
BEGIN:DAYLIGHT
TZOFFSETFROM:+0100
TZOFFSETTO:+0200
TZNAME:CEST
DTSTART:20230326T010000
END:DAYLIGHT
BEGIN:STANDARD
TZOFFSETFROM:+0200
TZOFFSETTO:+0100
TZNAME:CET
DTSTART:20231029T010000
END:STANDARD
BEGIN:DAYLIGHT
TZOFFSETFROM:+0100
TZOFFSETTO:+0200
TZNAME:CEST
DTSTART:20240331T010000
END:DAYLIGHT
BEGIN:STANDARD
TZOFFSETFROM:+0200
TZOFFSETTO:+0100
TZNAME:CET
DTSTART:20241027T010000
END:STANDARD
END:VTIMEZONE
BEGIN:VEVENT
DTSTART;TZID=Europe/Prague:20231213T200000
DTEND;TZID=Europe/Prague:20231213T221500
DTSTAMP:20260423T190319
CREATED:20231201T073340Z
LAST-MODIFIED:20240111T183420Z
UID:183-1702497600-1702505700@www.amaterskascena.cz
SUMMARY:Divadlo RADAR: Probuzení jara
DESCRIPTION:„Když se lidi líbají — milují se…“ \nProbuzení\, při němž zůstáváš sám. Tragická vyprávěnka ze světa mladých dospělých. Opovážlivá cesta tím zatraceným dospíváním. Na jedný straně rodiče\, škola a známky. Na straně druhý nezkrotný touhy a chtíče\, erotický sympatie. Vyburcovanou odvahu střídá skličující marnost\, netečnost a lhostejnost volají po rebélii. Sebepoznávání\, kterýmu vždy tak trochu něco schází. A taky ta pohádka o bezhlavý královně. Zůstane-li na světě nějaká jistota\, bude to neporozumění. A listy si cosi horlivě šeptají…
URL:https://www.amaterskascena.cz/event/divadlo-radar-probuzeni-jara/
LOCATION:Divadlo RADAR\, Pplk. Sochora 9\, Praha 7\, Hlavní město Praha\, 170 00\, Česká republika
CATEGORIES:Divadelní představení
ATTACH;FMTTYPE=image/jpeg:https://www.amaterskascena.cz/wp-content/uploads/2023/12/probuzeni_jara.jpg
ORGANIZER;CN="Divadlo RADAR":MAILTO:j.kottasova@ddmpraha7.cz
END:VEVENT
BEGIN:VEVENT
DTSTART;TZID=Europe/Prague:20231210T150000
DTEND;TZID=Europe/Prague:20231210T163000
DTSTAMP:20260423T190319
CREATED:20231204T074446Z
LAST-MODIFIED:20231231T134331Z
UID:338-1702220400-1702225800@www.amaterskascena.cz
SUMMARY:Libický divadelní podzim / Popelka
DESCRIPTION:LDP – Popelka: Bylo nebylo? – PREMIÉRA\nRodinné představení\, ve kterém si na své přijde nejen dětský divák\, ale i jeho dospělý doprovod. Výtvarnou a hereckou stylizací je přenesen na jeviště aktualizovaný pohled na známý příběh. Hraje: DS VOJAN Libice n. C.
URL:https://www.amaterskascena.cz/event/libicky-divadelni-podzim-popelka/
LOCATION:Kulturní dům Libice nad Cidlinou\, Husova 35\, Libice nad Cidlinou\, Středočeský kraj\, 289 07\, Česká republika
CATEGORIES:Divadelní představení
ATTACH;FMTTYPE=image/jpeg:https://www.amaterskascena.cz/wp-content/uploads/2023/12/Popelka-hlavni-foto.jpg
END:VEVENT
BEGIN:VEVENT
DTSTART;TZID=Europe/Prague:20231209T180000
DTEND;TZID=Europe/Prague:20231209T200000
DTSTAMP:20260423T190319
CREATED:20231204T073931Z
LAST-MODIFIED:20231231T134331Z
UID:335-1702144800-1702152000@www.amaterskascena.cz
SUMMARY:Libický divadelní podzim / Saturnin
DESCRIPTION:Známý příběh muže\, který je vždy a všude připraven na vše\, ve službách muže\, který často není připraven ani na tenisovou hru.\nHraje: DS KLAS Klášterec nad Ohří.
URL:https://www.amaterskascena.cz/event/libicky-divadelni-podzim-saturnin/
LOCATION:Kulturní dům Libice nad Cidlinou\, Husova 35\, Libice nad Cidlinou\, Středočeský kraj\, 289 07\, Česká republika
CATEGORIES:Divadelní představení
ATTACH;FMTTYPE=image/webp:https://www.amaterskascena.cz/wp-content/uploads/2023/12/Saturnin3-1024x683-1.webp
ORGANIZER;CN="DS Vojan Libice nad Cidlinou":MAILTO:dsvojan@gmail.com
END:VEVENT
END:VCALENDAR