BEGIN:VCALENDAR
VERSION:2.0
PRODID:-//Amatérská scéna - ECPv6.15.20//NONSGML v1.0//EN
CALSCALE:GREGORIAN
METHOD:PUBLISH
X-ORIGINAL-URL:https://www.amaterskascena.cz
X-WR-CALDESC:Akce na Amatérská scéna
REFRESH-INTERVAL;VALUE=DURATION:PT1H
X-Robots-Tag:noindex
X-PUBLISHED-TTL:PT1H
BEGIN:VTIMEZONE
TZID:Europe/Prague
BEGIN:DAYLIGHT
TZOFFSETFROM:+0100
TZOFFSETTO:+0200
TZNAME:CEST
DTSTART:20250330T010000
END:DAYLIGHT
BEGIN:STANDARD
TZOFFSETFROM:+0200
TZOFFSETTO:+0100
TZNAME:CET
DTSTART:20251026T010000
END:STANDARD
BEGIN:DAYLIGHT
TZOFFSETFROM:+0100
TZOFFSETTO:+0200
TZNAME:CEST
DTSTART:20260329T010000
END:DAYLIGHT
BEGIN:STANDARD
TZOFFSETFROM:+0200
TZOFFSETTO:+0100
TZNAME:CET
DTSTART:20261025T010000
END:STANDARD
BEGIN:DAYLIGHT
TZOFFSETFROM:+0100
TZOFFSETTO:+0200
TZNAME:CEST
DTSTART:20270328T010000
END:DAYLIGHT
BEGIN:STANDARD
TZOFFSETFROM:+0200
TZOFFSETTO:+0100
TZNAME:CET
DTSTART:20271031T010000
END:STANDARD
END:VTIMEZONE
BEGIN:VEVENT
DTSTART;VALUE=DATE:20260418
DTEND;VALUE=DATE:20260419
DTSTAMP:20260423T115140
CREATED:20260417T100004Z
LAST-MODIFIED:20260417T100004Z
UID:18453-1776470400-1776556799@www.amaterskascena.cz
SUMMARY:Národní přehlídka Kandrdásek - Neratovice
DESCRIPTION:Pozvání na národní kolo přehlídky monologů a dialogů dětí.  Přijďte je podpořit do Společenského domu v Neratovicích.
URL:https://www.amaterskascena.cz/event/narodni-prehlidka-kandrdasek-neratovice/
LOCATION:Společenský dům Neratovice\, nám. Republiky 1399\, Neratovice\, Středočeský kraj\, 277 11\, Česká republika
CATEGORIES:Národní přehlídka
ATTACH;FMTTYPE=image/png:https://www.amaterskascena.cz/wp-content/uploads/2026/04/Kandrdasek_plakat_png2026-scaled.png
END:VEVENT
END:VCALENDAR